BEGIN:VCALENDAR
VERSION:2.0
PRODID:spatie/icalendar-generator
DESCRIPTION:Events from Permata Gria
X-WR-CALDESC:Events from Permata Gria
REFRESH-INTERVAL;VALUE=DURATION:PT1440M
X-PUBLISHED-TTL:PT1440M
BEGIN:VTIMEZONE
TZID:Asia/Jakarta
BEGIN:STANDARD
DTSTART:20250609T000000Z
TZOFFSETFROM:+0700
TZOFFSETTO:+0700
END:STANDARD
END:VTIMEZONE
BEGIN:VTIMEZONE
TZID:UTC
BEGIN:STANDARD
DTSTART:20250724T093402Z
TZOFFSETFROM:+0000
TZOFFSETTO:+0000
END:STANDARD
END:VTIMEZONE
BEGIN:VEVENT
UID:309-272
DTSTAMP:20260420T093402Z
SUMMARY:Terisi
LOCATION:Gedung Pertemuan Permata Gria Jalan Pelajar No 146  Medan Sumatera
  Utara 20217
ORGANIZER;CN=Tim Creative:MAILTO:rakyatpermata@gmail.com
DTSTART;TZID=Asia/Jakarta;VALUE=DATE:20260306
DTEND;TZID=Asia/Jakarta;VALUE=DATE:20260307
X-ALT-DESC;FMTTYPE=TEXT/HTML:Keluarga : Borris (percetakan)
CATEGORIES:lantai I,  all in one
URL;VALUE=URI:https://permatagria.com/my-calendar/?mc_id=309&#038;vcal=309
METHOD:PUBLISH
END:VEVENT
END:VCALENDAR